BEGIN:VCALENDAR
VERSION:2.0
PRODID:-//pretix//pretix.eu//
BEGIN:VTIMEZONE
TZID:Europe/Berlin
BEGIN:STANDARD
DTSTART:20001029T040000
RRULE:FREQ=YEARLY;BYDAY=-1SU;BYMONTH=10
TZNAME:CET
TZOFFSETFROM:+0200
TZOFFSETTO:+0100
END:STANDARD
BEGIN:DAYLIGHT
DTSTART:20000326T030000
RRULE:FREQ=YEARLY;BYDAY=-1SU;BYMONTH=3
TZNAME:CEST
TZOFFSETFROM:+0100
TZOFFSETTO:+0200
END:DAYLIGHT
END:VTIMEZONE
BEGIN:VEVENT
UID:pretix-kune-kafka-4138761@tickets.kafka-laechelt.de
DTSTART;TZID=Europe/Berlin:20240505T200000
DTEND;TZID=Europe/Berlin:20240505T210000
DESCRIPTION:Tickets: https://tickets.kafka-laechelt.de/4138761/\nEinlass: 0
 5.05.2024 19:30\nVeranstalter: KuneArts GmbH
DTSTAMP:20260421T094915Z
LOCATION:tanzlokal boccanegra\, provenceweg 22\, tübingen
SUMMARY:tanztheater treibhaus. kafkas traum - eine verwandlung. tanztheater
END:VEVENT
END:VCALENDAR
